BEGIN:VCALENDAR
VERSION:2.0
PRODID:-//ChamberMaster//Event Calendar 2.0//EN
METHOD:PUBLISH
X-PUBLISHED-TTL:P3D
REFRESH-INTERVAL:P3D
CALSCALE:GREGORIAN
BEGIN:VEVENT
DTSTART:20180622T200000Z
DTEND:20180622T210000Z
X-MICROSOFT-CDO-ALLDAYEVENT:FALSE
SUMMARY:Ribbon Cutting - Ameriprise Financial: Seven Bridges Wealth Advisors formerly Mazzetti\, Buscetto & Associates
DESCRIPTION:Join us to celebrate the launch of Ameriprise Financial's new brand: Seven Bridges Wealth Advisors formerly Mazzetti\, Buscetto & Associates.\n\n\n\nRibbon Cutting at 4:00PM. Barbeque to follow.
X-ALT-DESC;FMTTYPE=text/html:Join us to celebrate the launch of Ameriprise Financial&#39\;s new brand: Seven Bridges Wealth Advisors formerly Mazzetti\, Buscetto &amp\; Associates.<br />\n<br />\nRibbon Cutting at 4:00PM. Barbeque to follow.<br />\n&nbsp\;
LOCATION:176 Church Street Poughkeepsie
UID:e.2770.10476911
SEQUENCE:3
DTSTAMP:20260425T171425Z
URL:https://business.dcrcoc.org/events/details/ribbon-cutting-ameriprise-financial-seven-bridges-wealth-advisors-formerly-mazzetti-buscetto-associates-10476911
END:VEVENT

END:VCALENDAR
