BEGIN:VCALENDAR
VERSION:2.0
PRODID:-//ChamberMaster//Event Calendar 2.0//EN
METHOD:PUBLISH
X-PUBLISHED-TTL:P3D
REFRESH-INTERVAL:P3D
CALSCALE:GREGORIAN
BEGIN:VEVENT
DTSTART:20180925T200000Z
DTEND:20180925T210000Z
X-MICROSOFT-CDO-ALLDAYEVENT:FALSE
SUMMARY:Ribbon Cutting - Anderson Center For Autism
DESCRIPTION:Join us to celebrate the opening of the newest LifeLong Learning Center - Horton Way and the Claudio Computer Room (funded by Claudio Cares Foundation)!
X-ALT-DESC;FMTTYPE=text/html:Join us to celebrate the opening of the newest LifeLong Learning Center - Horton Way and the Claudio Computer Room (funded by&nbsp\;Claudio Cares Foundation)!
LOCATION:22 Bill Horton Way Wappingers Falls\, NY
UID:e.2770.10479665
SEQUENCE:3
DTSTAMP:20260425T131639Z
URL:https://business.dcrcoc.org/events/details/ribbon-cutting-anderson-center-for-autism-10479665
END:VEVENT

END:VCALENDAR
