BEGIN:VCALENDAR
VERSION:2.0
PRODID:-//ChamberMaster//Event Calendar 2.0//EN
METHOD:PUBLISH
X-PUBLISHED-TTL:P3D
REFRESH-INTERVAL:P3D
CALSCALE:GREGORIAN
BEGIN:VEVENT
DTSTART:20180118T210000Z
DTEND:20180118T220000Z
X-MICROSOFT-CDO-ALLDAYEVENT:FALSE
SUMMARY:Ribbon Cutting - Antalek & Moore Insurance Agency\, LLC
DESCRIPTION:Join us to celebrate the announcement of new partners Susan Antalek Pagones and Vincent Lemma!\n\n\n\n*** In the event of inclement weather\, visit the Chamber's website and Facebook page by 6:30 a.m. for updates regarding events and committee meetings. The status of afternoon meetings\, ribbon cuttings and events will be posted accordingly.
X-ALT-DESC;FMTTYPE=text/html:<span style="font-size: 16px\;"><span style="font-family: arial\;">Join us to celebrate the announcement of new partners Susan Antalek Pagones and Vincent Lemma!</span></span><br />\n<br />\n<span style="font-size: 12px\;"><strong><span style="color: red\;">*** In the event of inclement weather\, visit the <span style="color: red\;">Chamber&rsquo\;s website</span> and <span style="color: red\;">Facebook page</span> by 6:30 a.m. for updates regarding events and committee meetings. The status of afternoon meetings\, ribbon cuttings and events will be posted accordingly.</span></strong></span><br />\n&nbsp\;
LOCATION:340 Main Street\, Beacon
UID:e.2770.10476682
SEQUENCE:3
DTSTAMP:20260425T232408Z
URL:https://business.dcrcoc.org/events/details/ribbon-cutting-antalek-moore-insurance-agency-llc-10476682
END:VEVENT

END:VCALENDAR
