BEGIN:VCALENDAR
VERSION:2.0
PRODID:-//ChamberMaster//Event Calendar 2.0//EN
METHOD:PUBLISH
X-PUBLISHED-TTL:P3D
REFRESH-INTERVAL:P3D
CALSCALE:GREGORIAN
BEGIN:VEVENT
DTSTART:20180323T160000Z
DTEND:20180323T170000Z
X-MICROSOFT-CDO-ALLDAYEVENT:FALSE
SUMMARY:Ribbon Cutting - Artistic Hair Lounge
DESCRIPTION:Join us to celebrate Artistic Hair Lounge's Grand Opening.
X-ALT-DESC;FMTTYPE=text/html:Join us to celebrate Artistic Hair Lounge&#39\;s Grand Opening.
LOCATION:3999 Albany Post Road\, Suite 4 Hyde Park
UID:e.2770.10476868
SEQUENCE:3
DTSTAMP:20260425T210617Z
URL:https://business.dcrcoc.org/events/details/ribbon-cutting-artistic-hair-lounge-10476868
END:VEVENT

END:VCALENDAR
