BEGIN:VCALENDAR
VERSION:2.0
PRODID:-//ChamberMaster//Event Calendar 2.0//EN
METHOD:PUBLISH
X-PUBLISHED-TTL:P3D
REFRESH-INTERVAL:P3D
CALSCALE:GREGORIAN
BEGIN:VEVENT
DTSTART:20171020T200000Z
DTEND:20171020T210000Z
X-MICROSOFT-CDO-ALLDAYEVENT:FALSE
SUMMARY:Ribbon Cutting - Barton Estates
DESCRIPTION:Join us to celebrate the grand opening of Barton Estate's new wedding venue and showcase. The showcase will include cakes\, caterers\, florists and more!
X-ALT-DESC;FMTTYPE=text/html:Join us to celebrate the grand opening of Barton Estate&rsquo\;s new wedding venue and showcase. The showcase will include cakes\, caterers\, florists and more!<br />\n&nbsp\; &nbsp\;&nbsp\;
LOCATION:176 Beekman Poughquag Rd\, Poughquag
UID:e.2770.10476333
SEQUENCE:3
DTSTAMP:20260426T033146Z
URL:https://business.dcrcoc.org/events/details/ribbon-cutting-barton-estates-10476333
END:VEVENT

END:VCALENDAR
