BEGIN:VCALENDAR
VERSION:2.0
PRODID:-//ChamberMaster//Event Calendar 2.0//EN
METHOD:PUBLISH
X-PUBLISHED-TTL:P3D
REFRESH-INTERVAL:P3D
CALSCALE:GREGORIAN
BEGIN:VEVENT
DTSTART:20171107T210000Z
DTEND:20171107T220000Z
X-MICROSOFT-CDO-ALLDAYEVENT:FALSE
SUMMARY:Ribbon Cutting - Cannizzaro Real Estate Center
DESCRIPTION:Join us to celebrate the grand opening of Signature Estates presented by Cannizzaro Real Estate Center!
X-ALT-DESC;FMTTYPE=text/html:Join us to celebrate the grand opening of Signature Estates presented by Cannizzaro Real Estate Center! &nbsp\; &nbsp\; &nbsp\; &nbsp\;&nbsp\;
LOCATION:1075 Route 82 Suite 8 Hopewell Junction\, NY 12533
UID:e.2770.10476323
SEQUENCE:3
DTSTAMP:20260426T020806Z
URL:https://business.dcrcoc.org/events/details/ribbon-cutting-cannizzaro-real-estate-center-10476323
END:VEVENT

END:VCALENDAR
