BEGIN:VCALENDAR
VERSION:2.0
PRODID:-//ChamberMaster//Event Calendar 2.0//EN
METHOD:PUBLISH
X-PUBLISHED-TTL:P3D
REFRESH-INTERVAL:P3D
CALSCALE:GREGORIAN
BEGIN:VEVENT
DTSTART:20191112T210000Z
DTEND:20191112T220000Z
X-MICROSOFT-CDO-ALLDAYEVENT:FALSE
SUMMARY:Ribbon Cutting: Chakra Bowls
DESCRIPTION:Join us as we celebrate their one year anniversary!
X-ALT-DESC;FMTTYPE=text/html:<span style="font-size:18px\;"><span style="font-family:times new roman\;">Join us as we celebrate their one year anniversary!</span></span>
LOCATION:33 Arlington Avenue Poughkeepsie
UID:e.2770.10481412
SEQUENCE:3
DTSTAMP:20260422T172347Z
URL:https://business.dcrcoc.org/events/details/ribbon-cutting-chakra-bowls-10481412
END:VEVENT

END:VCALENDAR
