BEGIN:VCALENDAR
VERSION:2.0
PRODID:-//ChamberMaster//Event Calendar 2.0//EN
METHOD:PUBLISH
X-PUBLISHED-TTL:P3D
REFRESH-INTERVAL:P3D
CALSCALE:GREGORIAN
BEGIN:VEVENT
DTSTART:20180420T160000Z
DTEND:20180420T170000Z
X-MICROSOFT-CDO-ALLDAYEVENT:FALSE
SUMMARY:Ribbon Cutting - Dunkin' Donuts
DESCRIPTION:Join us to celebrate the Grand Opening of Dunkin' Donuts new location.
X-ALT-DESC;FMTTYPE=text/html:Join us to celebrate the Grand Opening of Dunkin&#39\; Donuts new location.
LOCATION:2036 Route 9D\, Wappingers Falls
UID:e.2770.10477136
SEQUENCE:3
DTSTAMP:20260425T210346Z
URL:https://business.dcrcoc.org/events/details/ribbon-cutting-dunkin-donuts-10477136
END:VEVENT

END:VCALENDAR
