BEGIN:VCALENDAR
VERSION:2.0
PRODID:-//ChamberMaster//Event Calendar 2.0//EN
METHOD:PUBLISH
X-PUBLISHED-TTL:P3D
REFRESH-INTERVAL:P3D
CALSCALE:GREGORIAN
BEGIN:VEVENT
DTSTART:20190508T200000Z
DTEND:20190508T210000Z
X-MICROSOFT-CDO-ALLDAYEVENT:FALSE
SUMMARY:Ribbon Cutting: Dutchess County Office for the Aging
DESCRIPTION:Join us for the grand opening of their new location!
X-ALT-DESC;FMTTYPE=text/html:Join us for the grand opening of their new location!
LOCATION:114 Delafield Street Poughkeepsie
UID:e.2770.10480603
SEQUENCE:3
DTSTAMP:20260423T045318Z
URL:https://business.dcrcoc.org/events/details/ribbon-cutting-dutchess-county-office-for-the-aging-10480603
END:VEVENT

END:VCALENDAR
