BEGIN:VCALENDAR
VERSION:2.0
PRODID:-//ChamberMaster//Event Calendar 2.0//EN
METHOD:PUBLISH
X-PUBLISHED-TTL:P3D
REFRESH-INTERVAL:P3D
CALSCALE:GREGORIAN
BEGIN:VEVENT
DTSTART:20180927T200000Z
DTEND:20180927T210000Z
X-MICROSOFT-CDO-ALLDAYEVENT:FALSE
SUMMARY:Ribbon Cutting - Dutchess Tourism & The Poughkeepsie Galleria Mural Project
DESCRIPTION:Join us to celebrate Dutchess Tourism & The Poughkeepsie Galleria's new mural project.
X-ALT-DESC;FMTTYPE=text/html:Join us to celebrate Dutchess Tourism &amp\; The Poughkeepsie Galleria&#39\;s new mural project.
LOCATION:Poughkeepsie Galleria Mall Community Room 2001 South Rd Wappingers Falls
UID:e.2770.10479353
SEQUENCE:3
DTSTAMP:20260425T131556Z
URL:https://business.dcrcoc.org/events/details/ribbon-cutting-dutchess-tourism-the-poughkeepsie-galleria-mural-project-10479353
END:VEVENT

END:VCALENDAR
