BEGIN:VCALENDAR
VERSION:2.0
PRODID:-//ChamberMaster//Event Calendar 2.0//EN
METHOD:PUBLISH
X-PUBLISHED-TTL:P3D
REFRESH-INTERVAL:P3D
CALSCALE:GREGORIAN
BEGIN:VEVENT
DTSTART:20171013T200000Z
DTEND:20171013T210000Z
X-MICROSOFT-CDO-ALLDAYEVENT:FALSE
SUMMARY:Ribbon Cutting - Earth Angels Veterinary Hospital
DESCRIPTION:Join us to celebrate the grand opening. Refreshments will be served.
X-ALT-DESC;FMTTYPE=text/html:<span style="font-size:16px\;">Join us to celebrate the grand opening. Refreshments will be served.&nbsp\;</span>
LOCATION:44 Saint Nicholas Road Wappingers Falls\, NY 12590
UID:e.2770.10476072
SEQUENCE:3
DTSTAMP:20260426T033607Z
URL:https://business.dcrcoc.org/events/details/ribbon-cutting-earth-angels-veterinary-hospital-10476072
END:VEVENT

END:VCALENDAR
