BEGIN:VCALENDAR
VERSION:2.0
PRODID:-//ChamberMaster//Event Calendar 2.0//EN
METHOD:PUBLISH
X-PUBLISHED-TTL:P3D
REFRESH-INTERVAL:P3D
CALSCALE:GREGORIAN
BEGIN:VEVENT
DTSTART:20191212T170000Z
DTEND:20191212T180000Z
X-MICROSOFT-CDO-ALLDAYEVENT:FALSE
SUMMARY:Ribbon Cutting: Edward Jones
DESCRIPTION:Join us for the grand re-opening!
X-ALT-DESC;FMTTYPE=text/html:Join us for the grand re-opening!
LOCATION:46 Foster Road Suite 2 Hopewell Junction
UID:e.2770.10480469
SEQUENCE:3
DTSTAMP:20260422T151930Z
URL:https://business.dcrcoc.org/events/details/ribbon-cutting-edward-jones-10480469
END:VEVENT

END:VCALENDAR
