BEGIN:VCALENDAR
VERSION:2.0
PRODID:-//ChamberMaster//Event Calendar 2.0//EN
METHOD:PUBLISH
X-PUBLISHED-TTL:P3D
REFRESH-INTERVAL:P3D
CALSCALE:GREGORIAN
BEGIN:VEVENT
DTSTART:20190611T160000Z
DTEND:20190611T170000Z
X-MICROSOFT-CDO-ALLDAYEVENT:FALSE
SUMMARY:Ribbon Cutting: Emergency One
DESCRIPTION:Join us as we open their new location!
X-ALT-DESC;FMTTYPE=text/html:Join us as we open their new location!
LOCATION:4274 Albany Post Road Hyde Park
UID:e.2770.10480745
SEQUENCE:3
DTSTAMP:20260423T031149Z
URL:https://business.dcrcoc.org/events/details/ribbon-cutting-emergency-one-10480745
END:VEVENT

END:VCALENDAR
