BEGIN:VCALENDAR
VERSION:2.0
PRODID:-//ChamberMaster//Event Calendar 2.0//EN
METHOD:PUBLISH
X-PUBLISHED-TTL:P3D
REFRESH-INTERVAL:P3D
CALSCALE:GREGORIAN
BEGIN:VEVENT
DTSTART:20200508T200000Z
DTEND:20200508T203000Z
X-MICROSOFT-CDO-ALLDAYEVENT:FALSE
SUMMARY:Ribbon Cutting: GKontos Inc. Roofing Specialists - POSTPONED***
DESCRIPTION:Join us as we celebrate the opening at a new location and 15 years in the business!
X-ALT-DESC;FMTTYPE=text/html:<strong><span style="font-size:16px\;"><span style="font-family:tahoma\;">Join us as we celebrate the opening at a new location and 15 years in the business!</span></span></strong>
LOCATION:GKontos Roofing 104 Noxon Road\, Suite 5 Poughkeepsie
UID:e.2770.10482685
SEQUENCE:3
DTSTAMP:20260422T063939Z
URL:https://business.dcrcoc.org/events/details/ribbon-cutting-gkontos-inc-roofing-specialists-postponed-10482685
END:VEVENT

END:VCALENDAR
