BEGIN:VCALENDAR
VERSION:2.0
PRODID:-//ChamberMaster//Event Calendar 2.0//EN
METHOD:PUBLISH
X-PUBLISHED-TTL:P3D
REFRESH-INTERVAL:P3D
CALSCALE:GREGORIAN
BEGIN:VEVENT
DTSTART:20181128T170000Z
DTEND:20181128T180000Z
X-MICROSOFT-CDO-ALLDAYEVENT:FALSE
SUMMARY:Ribbon Cutting - Golden Corral
DESCRIPTION:Join us to celebrate the grand opening!
X-ALT-DESC;FMTTYPE=text/html:<span style="font-size:16px\;">Join us to celebrate the grand opening!</span>
LOCATION:2345 South Road Poughkeepsie\, NY 12601
UID:e.2770.10479825
SEQUENCE:3
DTSTAMP:20260425T101852Z
URL:https://business.dcrcoc.org/events/details/ribbon-cutting-golden-corral-10479825
END:VEVENT

END:VCALENDAR
