BEGIN:VCALENDAR
VERSION:2.0
PRODID:-//ChamberMaster//Event Calendar 2.0//EN
METHOD:PUBLISH
X-PUBLISHED-TTL:P3D
REFRESH-INTERVAL:P3D
CALSCALE:GREGORIAN
BEGIN:VEVENT
DTSTART:20180816T200000Z
DTEND:20180816T210000Z
X-MICROSOFT-CDO-ALLDAYEVENT:FALSE
SUMMARY:Ribbon Cutting - Hampton Inn
DESCRIPTION:Join us to celebrate the grand re-opening.\n\nRefreshments will be provided.
X-ALT-DESC;FMTTYPE=text/html:Join us to celebrate the grand re-opening.<br />\nRefreshments will be provided.
LOCATION:544 Route 9 Fishkill\, NY
UID:e.2770.10477644
SEQUENCE:3
DTSTAMP:20260425T154915Z
URL:https://business.dcrcoc.org/events/details/ribbon-cutting-hampton-inn-10477644
END:VEVENT

END:VCALENDAR
