BEGIN:VCALENDAR
VERSION:2.0
PRODID:-//ChamberMaster//Event Calendar 2.0//EN
METHOD:PUBLISH
X-PUBLISHED-TTL:P3D
REFRESH-INTERVAL:P3D
CALSCALE:GREGORIAN
BEGIN:VEVENT
DTSTART:20190913T200000Z
DTEND:20190913T210000Z
X-MICROSOFT-CDO-ALLDAYEVENT:FALSE
SUMMARY:Ribbon Cutting: Hopewell Animal Hospital
DESCRIPTION:Join us as we celebrate their new location!
X-ALT-DESC;FMTTYPE=text/html:Join us as we celebrate their new location!
LOCATION:2611 Route 52 Hopewell Junction
UID:e.2770.10480999
SEQUENCE:3
DTSTAMP:20260422T221144Z
URL:https://business.dcrcoc.org/events/details/ribbon-cutting-hopewell-animal-hospital-10480999
END:VEVENT

END:VCALENDAR
