BEGIN:VCALENDAR
VERSION:2.0
PRODID:-//ChamberMaster//Event Calendar 2.0//EN
METHOD:PUBLISH
X-PUBLISHED-TTL:P3D
REFRESH-INTERVAL:P3D
CALSCALE:GREGORIAN
BEGIN:VEVENT
DTSTART:20180822T200000Z
DTEND:20180822T210000Z
X-MICROSOFT-CDO-ALLDAYEVENT:FALSE
SUMMARY:Ribbon Cutting - Hudson River Truck & Trailer
DESCRIPTION:Join us to celebrate the 30th anniversary!
X-ALT-DESC;FMTTYPE=text/html:Join us to celebrate the 30th anniversary!
LOCATION:12 Commerce Street Ext. Poughkeepsie
UID:e.2770.10477830
SEQUENCE:3
DTSTAMP:20260425T144437Z
URL:https://business.dcrcoc.org/events/details/ribbon-cutting-hudson-river-truck-trailer-10477830
END:VEVENT

END:VCALENDAR
