BEGIN:VCALENDAR
VERSION:2.0
PRODID:-//ChamberMaster//Event Calendar 2.0//EN
METHOD:PUBLISH
X-PUBLISHED-TTL:P3D
REFRESH-INTERVAL:P3D
CALSCALE:GREGORIAN
BEGIN:VEVENT
DTSTART:20191111T210000Z
DTEND:20191111T213000Z
X-MICROSOFT-CDO-ALLDAYEVENT:FALSE
SUMMARY:Ribbon Cutting: Hudson Valley Food Hall
DESCRIPTION:Join us for the grand opening!
X-ALT-DESC;FMTTYPE=text/html:<span style="font-size:18px\;"><span style="font-family:times new roman\;">Join us for the grand opening!&nbsp\;&nbsp\;&nbsp\;&nbsp\;</span></span>
LOCATION:288 Main Street Beacon
UID:e.2770.10481438
SEQUENCE:3
DTSTAMP:20260422T171025Z
URL:https://business.dcrcoc.org/events/details/ribbon-cutting-hudson-valley-food-hall-10481438
END:VEVENT

END:VCALENDAR
