BEGIN:VCALENDAR
VERSION:2.0
PRODID:-//ChamberMaster//Event Calendar 2.0//EN
METHOD:PUBLISH
X-PUBLISHED-TTL:P3D
REFRESH-INTERVAL:P3D
CALSCALE:GREGORIAN
BEGIN:VEVENT
DTSTART:20180518T200000Z
DTEND:20180518T210000Z
X-MICROSOFT-CDO-ALLDAYEVENT:FALSE
SUMMARY:Ribbon Cutting - Hudson Valley Healing Center - Salt Cave + Yoga
DESCRIPTION:Join us to celebrate the grand opening!
X-ALT-DESC;FMTTYPE=text/html:<span style="font-size: 16px\;"><span style="color: rgb(51\, 51\, 51)\; font-family: sans-serif\, Arial\, Verdana\, &quot\;Trebuchet MS&quot\;\; background-color: rgb(255\, 255\, 255)\;">Join us to celebrate the grand opening!</span></span>
LOCATION:51 Springside Ave\, Poughkeepsie
UID:e.2770.10476729
SEQUENCE:3
DTSTAMP:20260425T182132Z
URL:https://business.dcrcoc.org/events/details/ribbon-cutting-hudson-valley-healing-center-salt-cave-yoga-10476729
END:VEVENT

END:VCALENDAR
