BEGIN:VCALENDAR
VERSION:2.0
PRODID:-//ChamberMaster//Event Calendar 2.0//EN
METHOD:PUBLISH
X-PUBLISHED-TTL:P3D
REFRESH-INTERVAL:P3D
CALSCALE:GREGORIAN
BEGIN:VEVENT
DTSTART:20190917T200000Z
DTEND:20190917T210000Z
X-MICROSOFT-CDO-ALLDAYEVENT:FALSE
SUMMARY:Ribbon Cutting: Hyatt Place Hotel
DESCRIPTION:Join us as we celebrate the grand opening!
X-ALT-DESC;FMTTYPE=text/html:Join us as we celebrate the grand opening!
LOCATION:2165 South Road Poughkeepsie
UID:e.2770.10481016
SEQUENCE:3
DTSTAMP:20260422T222703Z
URL:https://business.dcrcoc.org/events/details/ribbon-cutting-hyatt-place-hotel-10481016
END:VEVENT

END:VCALENDAR
