BEGIN:VCALENDAR
VERSION:2.0
PRODID:-//ChamberMaster//Event Calendar 2.0//EN
METHOD:PUBLISH
X-PUBLISHED-TTL:P3D
REFRESH-INTERVAL:P3D
CALSCALE:GREGORIAN
BEGIN:VEVENT
DTSTART:20190926T200000Z
DTEND:20190926T210000Z
X-MICROSOFT-CDO-ALLDAYEVENT:FALSE
SUMMARY:Ribbon Cutting: Jersey Mike's
DESCRIPTION:Join us for the grand opening!
X-ALT-DESC;FMTTYPE=text/html:Join us for the grand opening!
LOCATION:584 Route 9 Fishkill
UID:e.2770.10481023
SEQUENCE:3
DTSTAMP:20260422T215611Z
URL:https://business.dcrcoc.org/events/details/ribbon-cutting-jersey-mike-s-10481023
END:VEVENT

END:VCALENDAR
