BEGIN:VCALENDAR
VERSION:2.0
PRODID:-//ChamberMaster//Event Calendar 2.0//EN
METHOD:PUBLISH
X-PUBLISHED-TTL:P3D
REFRESH-INTERVAL:P3D
CALSCALE:GREGORIAN
BEGIN:VEVENT
DTSTART:20180614T160000Z
DTEND:20180614T170000Z
X-MICROSOFT-CDO-ALLDAYEVENT:FALSE
SUMMARY:Ribbon Cutting - Kimisis Greek Orthodox Church
DESCRIPTION:Join us to celebrate the 40th    anniversary of the Hellenic Festival
X-ALT-DESC;FMTTYPE=text/html:Join us to celebrate the 40th&acirc\;&euro\;&OElig\; anniversary of the Hellenic Festival
LOCATION:140 S. Grand Avenue Poughkeepsie
UID:e.2770.10476890
SEQUENCE:3
DTSTAMP:20260425T171229Z
URL:https://business.dcrcoc.org/events/details/ribbon-cutting-kimisis-greek-orthodox-church-10476890
END:VEVENT

END:VCALENDAR
