BEGIN:VCALENDAR
VERSION:2.0
PRODID:-//ChamberMaster//Event Calendar 2.0//EN
METHOD:PUBLISH
X-PUBLISHED-TTL:P3D
REFRESH-INTERVAL:P3D
CALSCALE:GREGORIAN
BEGIN:VEVENT
DTSTART:20171003T160000Z
DTEND:20171003T170000Z
X-MICROSOFT-CDO-ALLDAYEVENT:FALSE
SUMMARY:Ribbon Cutting - Lovingly
DESCRIPTION:Join us to celebrate the renaming and rebranding of Lovingly! Refreshments will be served.
X-ALT-DESC;FMTTYPE=text/html:Join us to celebrate the renaming and rebranding of Lovingly! Refreshments will be served.
LOCATION:The Summit Court Office Park 1399 Route 52\, Suite 100 Fishkill\, NY 12524
UID:e.2770.10476242
SEQUENCE:3
DTSTAMP:20260426T033137Z
URL:https://business.dcrcoc.org/events/details/ribbon-cutting-lovingly-10476242
END:VEVENT

END:VCALENDAR
