BEGIN:VCALENDAR
VERSION:2.0
PRODID:-//ChamberMaster//Event Calendar 2.0//EN
METHOD:PUBLISH
X-PUBLISHED-TTL:P3D
REFRESH-INTERVAL:P3D
CALSCALE:GREGORIAN
BEGIN:VEVENT
DTSTART:20180504T200000Z
DTEND:20180504T210000Z
X-MICROSOFT-CDO-ALLDAYEVENT:FALSE
SUMMARY:Ribbon Cutting - Lucky Orphans Horse Rescue\, Inc.
DESCRIPTION:Join us to celebrate the 10th anniversary!
X-ALT-DESC;FMTTYPE=text/html:<span style="font-size:16px\;"><span style="color: rgb(51\, 51\, 51)\; font-family: sans-serif\, Arial\, Verdana\, &quot\;Trebuchet MS&quot\;\; background-color: rgb(255\, 255\, 255)\;">Join us to celebrate the 10th&nbsp\;anniversary!</span></span>
LOCATION:2699 Route 22\, Dover Plains
UID:e.2770.10476634
SEQUENCE:3
DTSTAMP:20260425T182129Z
URL:https://business.dcrcoc.org/events/details/ribbon-cutting-lucky-orphans-horse-rescue-inc-10476634
END:VEVENT

END:VCALENDAR
