BEGIN:VCALENDAR
VERSION:2.0
PRODID:-//ChamberMaster//Event Calendar 2.0//EN
METHOD:PUBLISH
X-PUBLISHED-TTL:P3D
REFRESH-INTERVAL:P3D
CALSCALE:GREGORIAN
BEGIN:VEVENT
DTSTART:20190516T200000Z
DTEND:20190516T210000Z
X-MICROSOFT-CDO-ALLDAYEVENT:FALSE
SUMMARY:Ribbon Cutting: Manpower\, Inc.
DESCRIPTION:Join us for the grand opening of their new office space!
X-ALT-DESC;FMTTYPE=text/html:Join us for the grand opening of their new office space!
LOCATION:2515 South Road\, Suite 101 Poughkeepsie
UID:e.2770.10480639
SEQUENCE:3
DTSTAMP:20260423T045216Z
URL:https://business.dcrcoc.org/events/details/ribbon-cutting-manpower-inc-10480639
END:VEVENT

END:VCALENDAR
