BEGIN:VCALENDAR
VERSION:2.0
PRODID:-//ChamberMaster//Event Calendar 2.0//EN
METHOD:PUBLISH
X-PUBLISHED-TTL:P3D
REFRESH-INTERVAL:P3D
CALSCALE:GREGORIAN
BEGIN:VEVENT
DTSTART:20171017T170000Z
DTEND:20171017T180000Z
X-MICROSOFT-CDO-ALLDAYEVENT:FALSE
SUMMARY:Ribbon Cutting - McCabe & Mack LLP\, Attorneys-At-Law
DESCRIPTION:Come celebrate our business expansion!
X-ALT-DESC;FMTTYPE=text/html:<span style="font-size:16px\;"><span style="font-family:arial\;">Come celebrate our business expansion!</span></span>
LOCATION:63 Washington Street\, Poughkeepsie
UID:e.2770.10476304
SEQUENCE:3
DTSTAMP:20260426T033601Z
URL:https://business.dcrcoc.org/events/details/ribbon-cutting-mccabe-mack-llp-attorneys-at-law-10476304
END:VEVENT

END:VCALENDAR
