BEGIN:VCALENDAR
VERSION:2.0
PRODID:-//ChamberMaster//Event Calendar 2.0//EN
METHOD:PUBLISH
X-PUBLISHED-TTL:P3D
REFRESH-INTERVAL:P3D
CALSCALE:GREGORIAN
BEGIN:VEVENT
DTSTART:20171205T210000Z
DTEND:20171205T220000Z
X-MICROSOFT-CDO-ALLDAYEVENT:FALSE
SUMMARY:Ribbon Cutting - Mid-Hudson Civic Center
DESCRIPTION:Join us to celebrate the 40th anniversary!
X-ALT-DESC;FMTTYPE=text/html:<span style="font-size:16px\;"><span style="font-family:arial\;">Join us to celebrate the 40th anniversary!&nbsp\;</span></span>
LOCATION:14 Civic Center Plaza\, Poughkeepsie
UID:e.2770.10476383
SEQUENCE:3
DTSTAMP:20260426T005116Z
URL:https://business.dcrcoc.org/events/details/ribbon-cutting-mid-hudson-civic-center-10476383
END:VEVENT

END:VCALENDAR
