BEGIN:VCALENDAR
VERSION:2.0
PRODID:-//ChamberMaster//Event Calendar 2.0//EN
METHOD:PUBLISH
X-PUBLISHED-TTL:P3D
REFRESH-INTERVAL:P3D
CALSCALE:GREGORIAN
BEGIN:VEVENT
DTSTART:20180606T160000Z
DTEND:20180606T170000Z
X-MICROSOFT-CDO-ALLDAYEVENT:FALSE
SUMMARY:Ribbon Cutting - New Creations Gift Shop
DESCRIPTION:Join us to celebrate the Grand Opening
X-ALT-DESC;FMTTYPE=text/html:Join us to celebrate the Grand Opening
LOCATION:1042 Main Street Fishkill\, NY
UID:e.2770.10477630
SEQUENCE:3
DTSTAMP:20260425T171015Z
URL:https://business.dcrcoc.org/events/details/ribbon-cutting-new-creations-gift-shop-10477630
END:VEVENT

END:VCALENDAR
