BEGIN:VCALENDAR
VERSION:2.0
PRODID:-//ChamberMaster//Event Calendar 2.0//EN
METHOD:PUBLISH
X-PUBLISHED-TTL:P3D
REFRESH-INTERVAL:P3D
CALSCALE:GREGORIAN
BEGIN:VEVENT
DTSTART:20180913T200000Z
DTEND:20180913T210000Z
X-MICROSOFT-CDO-ALLDAYEVENT:FALSE
SUMMARY:Ribbon Cutting - New Horizons Resources\, Inc.
DESCRIPTION:Join us for the New Horizons Multi-sensory Room opening!
X-ALT-DESC;FMTTYPE=text/html:Join us for the New Horizons Multi-sensory Room opening!
LOCATION:123 West Road Pleasant Valley\, NY 12569
UID:e.2770.10479463
SEQUENCE:3
DTSTAMP:20260425T131432Z
URL:https://business.dcrcoc.org/events/details/ribbon-cutting-new-horizons-resources-inc-10479463
END:VEVENT

END:VCALENDAR
