BEGIN:VCALENDAR
VERSION:2.0
PRODID:-//ChamberMaster//Event Calendar 2.0//EN
METHOD:PUBLISH
X-PUBLISHED-TTL:P3D
REFRESH-INTERVAL:P3D
CALSCALE:GREGORIAN
BEGIN:VEVENT
DTSTART:20171024T160000Z
DTEND:20171024T170000Z
X-MICROSOFT-CDO-ALLDAYEVENT:FALSE
SUMMARY:Ribbon Cutting - Nuleaf Tattoo Removal
DESCRIPTION:Please join us to celebrate the grand opening!
X-ALT-DESC;FMTTYPE=text/html:<span style="font-family:arial\;"><span style="font-size:14px\;">Please join us to celebrate the grand opening! &nbsp\; &nbsp\;&nbsp\;</span></span>
LOCATION:3979 Albany Post Road Hyde Park\, New York 12538
UID:e.2770.10476296
SEQUENCE:3
DTSTAMP:20260426T033443Z
URL:https://business.dcrcoc.org/events/details/ribbon-cutting-nuleaf-tattoo-removal-10476296
END:VEVENT

END:VCALENDAR
