BEGIN:VCALENDAR
VERSION:2.0
PRODID:-//ChamberMaster//Event Calendar 2.0//EN
METHOD:PUBLISH
X-PUBLISHED-TTL:P3D
REFRESH-INTERVAL:P3D
CALSCALE:GREGORIAN
BEGIN:VEVENT
DTSTART:20180914T200000Z
DTEND:20180914T210000Z
X-MICROSOFT-CDO-ALLDAYEVENT:FALSE
SUMMARY:Ribbon Cutting - Old Adriance Farm
DESCRIPTION:Join us to celebrate the grand opening!
X-ALT-DESC;FMTTYPE=text/html:Join us to celebrate the grand opening!
LOCATION:148 North Creek Road Staatsburg
UID:e.2770.10477810
SEQUENCE:3
DTSTAMP:20260425T131450Z
URL:https://business.dcrcoc.org/events/details/ribbon-cutting-old-adriance-farm-10477810
END:VEVENT

END:VCALENDAR
