BEGIN:VCALENDAR
VERSION:2.0
PRODID:-//ChamberMaster//Event Calendar 2.0//EN
METHOD:PUBLISH
X-PUBLISHED-TTL:P3D
REFRESH-INTERVAL:P3D
CALSCALE:GREGORIAN
BEGIN:VEVENT
DTSTART:20180511T200000Z
DTEND:20180511T210000Z
X-MICROSOFT-CDO-ALLDAYEVENT:FALSE
SUMMARY:Ribbon Cutting - Paula's Public House
DESCRIPTION:Join us to celebrate the grand opening and fundraiser!
X-ALT-DESC;FMTTYPE=text/html:<span style="font-size: 16px\;"><span style="font-family: arial\;">Join us to celebrate the grand opening and fundraiser!</span></span>
LOCATION:2186 New Hackensack Rd\, Poughkeepsie
UID:e.2770.10476638
SEQUENCE:3
DTSTAMP:20260425T182003Z
URL:https://business.dcrcoc.org/events/details/ribbon-cutting-paula-s-public-house-10476638
END:VEVENT

END:VCALENDAR
