BEGIN:VCALENDAR
VERSION:2.0
PRODID:-//ChamberMaster//Event Calendar 2.0//EN
METHOD:PUBLISH
X-PUBLISHED-TTL:P3D
REFRESH-INTERVAL:P3D
CALSCALE:GREGORIAN
BEGIN:VEVENT
DTSTART:20200401T160000Z
DTEND:20200401T163000Z
X-MICROSOFT-CDO-ALLDAYEVENT:FALSE
SUMMARY:Ribbon Cutting: Paula’s Runway Café - POSTPONED***
DESCRIPTION:Guests with registrations for postponed events will be automatically registered for the re-scheduled event\, and notified of the new date and time.\n\n\n\nCome join us as we celebrate the Grand Opening!
X-ALT-DESC;FMTTYPE=text/html:&nbsp\;<br />\n<span style="background:yellow\;"><span style="color:#333333\;"><span style="font-family:tahoma\,sans-serif\;"><span style="font-size:16.0pt\;">Guests with registrations for postponed events will be automatically registered for the re-scheduled event\, and notified of the new date and time.</span></span></span></span><br />\n<br />\n<strong><span style="font-size:16px\;"><span style="font-family:tahoma\;">Come join us as we celebrate the Grand Opening!</span></span></strong>
LOCATION:Paula's Runway Caf 263 New Hackensack Road Wappingers Falls
UID:e.2770.10482612
SEQUENCE:3
DTSTAMP:20260422T083303Z
URL:https://business.dcrcoc.org/events/details/ribbon-cutting-paula-s-runway-caf&#233;-postponed-10482612
END:VEVENT

END:VCALENDAR
