BEGIN:VCALENDAR
VERSION:2.0
PRODID:-//ChamberMaster//Event Calendar 2.0//EN
METHOD:PUBLISH
X-PUBLISHED-TTL:P3D
REFRESH-INTERVAL:P3D
CALSCALE:GREGORIAN
BEGIN:VEVENT
DTSTART:20180803T200000Z
DTEND:20180803T210000Z
X-MICROSOFT-CDO-ALLDAYEVENT:FALSE
SUMMARY:Ribbon Cutting - Plan Bee Farm Brewery
DESCRIPTION:Join us to celebrate the grand opening of the new Tap Room!
X-ALT-DESC;FMTTYPE=text/html:Join us to celebrate the grand opening of the new Tap Room!
LOCATION:115 Underhill Road Poughkeepsie
UID:e.2770.10479343
SEQUENCE:3
DTSTAMP:20260425T154408Z
URL:https://business.dcrcoc.org/events/details/ribbon-cutting-plan-bee-farm-brewery-10479343
END:VEVENT

END:VCALENDAR
