BEGIN:VCALENDAR
VERSION:2.0
PRODID:-//ChamberMaster//Event Calendar 2.0//EN
METHOD:PUBLISH
X-PUBLISHED-TTL:P3D
REFRESH-INTERVAL:P3D
CALSCALE:GREGORIAN
BEGIN:VEVENT
DTSTART:20200512T200000Z
DTEND:20200512T203000Z
X-MICROSOFT-CDO-ALLDAYEVENT:FALSE
SUMMARY:Ribbon Cutting: Precious Keepers LLC - POSTPONED***
DESCRIPTION:Join us as we celebrate their grand opening!
X-ALT-DESC;FMTTYPE=text/html:<span style="font-size:16px\;"><span style="font-family:tahoma\;">Join us as we celebrate their grand opening!</span></span>
LOCATION:Precious Keepers LLC 205 South Avenue\, Suite 108 Poughkeepsie
UID:e.2770.10483125
SEQUENCE:3
DTSTAMP:20260422T063825Z
URL:https://business.dcrcoc.org/events/details/ribbon-cutting-precious-keepers-llc-postponed-10483125
END:VEVENT

END:VCALENDAR
