BEGIN:VCALENDAR
VERSION:2.0
PRODID:-//ChamberMaster//Event Calendar 2.0//EN
METHOD:PUBLISH
X-PUBLISHED-TTL:P3D
REFRESH-INTERVAL:P3D
CALSCALE:GREGORIAN
BEGIN:VEVENT
DTSTART:20190923T200000Z
DTEND:20190923T210000Z
X-MICROSOFT-CDO-ALLDAYEVENT:FALSE
SUMMARY:Ribbon Cutting: Pure Physique Lagrangeville
DESCRIPTION:Join us for the grand opening!
X-ALT-DESC;FMTTYPE=text/html:Join us for the grand opening!
LOCATION:1097 Route 55 Lagrangeville
UID:e.2770.10481160
SEQUENCE:3
DTSTAMP:20260422T220950Z
URL:https://business.dcrcoc.org/events/details/ribbon-cutting-pure-physique-lagrangeville-10481160
END:VEVENT

END:VCALENDAR
