BEGIN:VCALENDAR
VERSION:2.0
PRODID:-//ChamberMaster//Event Calendar 2.0//EN
METHOD:PUBLISH
X-PUBLISHED-TTL:P3D
REFRESH-INTERVAL:P3D
CALSCALE:GREGORIAN
BEGIN:VEVENT
DTSTART:20180215T210000Z
DTEND:20180215T230000Z
X-MICROSOFT-CDO-ALLDAYEVENT:FALSE
SUMMARY:Ribbon Cutting - RBT CPAs\, LLP
DESCRIPTION:Join us to celebrate the grand re-opening and open house of RBT CPAs\, LLP's newly remodeled and expanded office!
X-ALT-DESC;FMTTYPE=text/html:<span style="font-size: 16px\;"><span style="font-family: arial\;"><span style="background-color: rgb(255\, 255\, 255)\;">Join us to celebrate the grand re-opening and open house of&nbsp\;RBT CPAs\, LLP&#39\;s </span><span style="mso-fareast-font-family: Calibri\; mso-fareast-theme-font: minor-latin\; mso-ansi-language: EN-US\; mso-fareast-language: EN-US\; mso-bidi-language: AR-SA\; mso-bidi-font-family: &quot\;Times New Roman&quot\;\;">newly remodeled and expanded office!</span></span></span>
LOCATION:2678 South Road Suite 100 Poughkeepsie
UID:e.2770.10476724
SEQUENCE:3
DTSTAMP:20260425T222146Z
URL:https://business.dcrcoc.org/events/details/ribbon-cutting-rbt-cpas-llp-10476724
END:VEVENT

END:VCALENDAR
