BEGIN:VCALENDAR
VERSION:2.0
PRODID:-//ChamberMaster//Event Calendar 2.0//EN
METHOD:PUBLISH
X-PUBLISHED-TTL:P3D
REFRESH-INTERVAL:P3D
CALSCALE:GREGORIAN
BEGIN:VEVENT
DTSTART:20200929T200000Z
DTEND:20200929T210000Z
X-MICROSOFT-CDO-ALLDAYEVENT:FALSE
SUMMARY:Ribbon Cutting: Rebuilding Together Dutchess County
DESCRIPTION:***This event is at full capacity\, please contact: chelsea@dcrcoc.org to be added to the waiting list***\n\n\n\n***Registration In Advance Is Required***\n\n\n\nJoin us as we celebrate the new location!\n\n\n\nSponsored by: Branding Pros\n\n\n\nIMPORTANT INFORMATION ABOUT THIS EVENT: \n\n\n\nLike all businesses\, we have updated how we conduct our events to ensure the safety of our attendees and staff at our Ribbon Cutting events. To remain in compliant with state regulations\, all individuals will be required to wear a mask when it is not possible to maintain a 6 foot social distance from other individuals. Because Ribbon Cuttings often include individuals moving around\, it is encouraged you keep your mask on throughout the entirety of the event. Social distancing should be maintained whenever possible\, and the number of attendees allowed at each event has been reduced to ensure this is possible. Hand sanitizer will be available at the event\, and all shared surfaces will be cleaned before and after the event. Failure to comply with these safety measures may result in a staff member asking you to leave the event for the safety of attendees. Those who are repeatedly asked to leave may be banned from attending future Ribbon Cuttings and other in-person events. Thank you for your cooperation.
X-ALT-DESC;FMTTYPE=text/html:<br />\n<span style="font-size:18px\;"><span style="font-family:tahoma\;"><span style="color:#FF0000\;"><span style="font-family:times new roman\;"><strong>***This event is at full capacity\, please contact: chelsea@dcrcoc.org to be added to the waiting list***</strong></span></span></span></span><br />\n<br />\n<strong style="color: rgb(0\, 0\, 0)\; font-family: &quot\;times new roman&quot\;\; font-size: 20px\;">***Registration In Advance Is Required***</strong><br />\n<br />\n<span style="font-size:18px\;"><span style="font-family:tahoma\;">Join us as we celebrate the new location!</span></span><br />\n<br />\n<strong><span style="font-size: 18px\;"><span style="font-family: &quot\;times new roman&quot\;\;">Sponsored by:&nbsp\;<a href="https://www.brandingpros.com/" target="_blank"><span style="color: rgb(0\, 0\, 255)\;">Branding Pros</span></a></span></span><br />\n<br />\n<span style="font-size: 14px\;">IMPORTANT INFORMATION ABOUT THIS EVENT:&nbsp\;</span></strong><br />\n<br />\n<span style="font-size: 14px\;">Like all businesses\, we have updated how we conduct our events to ensure the safety of our attendees and staff at our Ribbon Cutting events. To remain in compliant with state regulations\, all individuals will be required to wear a mask when it is not possible to maintain a 6 foot social distance from other individuals. Because Ribbon Cuttings often include individuals moving around\, it is encouraged you keep your mask on throughout the entirety of the event. Social distancing should be maintained whenever possible\, and the number of attendees allowed at each event has been reduced to ensure this is possible. Hand sanitizer will be available at the event\, and all shared surfaces will be cleaned before and after the event. Failure to comply with these safety measures may result in a staff member asking you to leave the event for the safety of attendees. Those who are repeatedly asked to leave may be banned from attending future Ribbon Cuttings and other in-person events. Thank you for your cooperation.</span><br />\n&nbsp\;
LOCATION:Rebuilding Together Dutchess County 31 Quaker Hill Road Pleasant Valley
UID:e.2770.10483120
SEQUENCE:3
DTSTAMP:20260422T002028Z
URL:https://business.dcrcoc.org/events/details/ribbon-cutting-rebuilding-together-dutchess-county-10483120
END:VEVENT

END:VCALENDAR
