BEGIN:VCALENDAR
VERSION:2.0
PRODID:-//ChamberMaster//Event Calendar 2.0//EN
METHOD:PUBLISH
X-PUBLISHED-TTL:P3D
REFRESH-INTERVAL:P3D
CALSCALE:GREGORIAN
BEGIN:VEVENT
DTSTART:20180502T200000Z
DTEND:20180502T210000Z
X-MICROSOFT-CDO-ALLDAYEVENT:FALSE
SUMMARY:Ribbon Cutting - Riverside Bank a Division of Salisbury Bank and Trust Company
DESCRIPTION:Join us to celebrate Riverside Bank a Division of Salisbury Bank and Trust Company's new location!
X-ALT-DESC;FMTTYPE=text/html:Join us to celebrate Riverside Bank a Division of Salisbury Bank and Trust Company&#39\;s new location!
LOCATION:701 Route 9 Fishkill\, NY
UID:e.2770.10476883
SEQUENCE:3
DTSTAMP:20260425T182214Z
URL:https://business.dcrcoc.org/events/details/ribbon-cutting-riverside-bank-a-division-of-salisbury-bank-and-trust-company-10476883
END:VEVENT

END:VCALENDAR
