BEGIN:VCALENDAR
VERSION:2.0
PRODID:-//ChamberMaster//Event Calendar 2.0//EN
METHOD:PUBLISH
X-PUBLISHED-TTL:P3D
REFRESH-INTERVAL:P3D
CALSCALE:GREGORIAN
BEGIN:VEVENT
DTSTART;VALUE=DATE:20180409
DTEND;VALUE=DATE:20180410
TRANSP:TRANSPARENT
X-MICROSOFT-CDO-ALLDAYEVENT:TRUE
SUMMARY:Ribbon Cutting - Ryan Family Farm at Lake Marjorie - ***POSTPONED!
DESCRIPTION:
X-ALT-DESC;FMTTYPE=text/html:
LOCATION:
UID:e.2770.10476824
SEQUENCE:3
DTSTAMP:20260425T210654Z
URL:https://business.dcrcoc.org/events/details/ribbon-cutting-ryan-family-farm-at-lake-marjorie-postponed-10476824
END:VEVENT

END:VCALENDAR
