BEGIN:VCALENDAR
VERSION:2.0
PRODID:-//ChamberMaster//Event Calendar 2.0//EN
METHOD:PUBLISH
X-PUBLISHED-TTL:P3D
REFRESH-INTERVAL:P3D
CALSCALE:GREGORIAN
BEGIN:VEVENT
DTSTART:20171212T210000Z
DTEND:20171212T220000Z
X-MICROSOFT-CDO-ALLDAYEVENT:FALSE
SUMMARY:Ribbon Cutting - Sadie's Place NY\, LLC
DESCRIPTION:Join us to celebrate the grand opening!
X-ALT-DESC;FMTTYPE=text/html:<span style="font-size:16px\;"><span style="color: rgb(51\, 51\, 51)\; font-family: sans-serif\, Arial\, Verdana\, &quot\;Trebuchet MS&quot\;\; background-color: rgb(255\, 255\, 255)\;">Join us to celebrate the grand opening!&nbsp\;</span></span>
LOCATION:143 Boardman Rd\, Bldg 3 Poughkeepsie\, NY 12603
UID:e.2770.10476607
SEQUENCE:3
DTSTAMP:20260426T005132Z
URL:https://business.dcrcoc.org/events/details/ribbon-cutting-sadie-s-place-ny-llc-10476607
END:VEVENT

END:VCALENDAR
