BEGIN:VCALENDAR
VERSION:2.0
PRODID:-//ChamberMaster//Event Calendar 2.0//EN
METHOD:PUBLISH
X-PUBLISHED-TTL:P3D
REFRESH-INTERVAL:P3D
CALSCALE:GREGORIAN
BEGIN:VEVENT
DTSTART:20180912T200000Z
DTEND:20180912T210000Z
X-MICROSOFT-CDO-ALLDAYEVENT:FALSE
SUMMARY:Ribbon Cutting - Salon Be Loved
DESCRIPTION:Join us to celebrate the grand opening!
X-ALT-DESC;FMTTYPE=text/html:Join us to celebrate the grand opening!
LOCATION:235 Myers Corners Road Wappingers Falls
UID:e.2770.10479419
SEQUENCE:3
DTSTAMP:20260425T131346Z
URL:https://business.dcrcoc.org/events/details/ribbon-cutting-salon-be-loved-10479419
END:VEVENT

END:VCALENDAR
