BEGIN:VCALENDAR
VERSION:2.0
PRODID:-//ChamberMaster//Event Calendar 2.0//EN
METHOD:PUBLISH
X-PUBLISHED-TTL:P3D
REFRESH-INTERVAL:P3D
CALSCALE:GREGORIAN
BEGIN:VEVENT
DTSTART:20191011T200000Z
DTEND:20191011T210000Z
X-MICROSOFT-CDO-ALLDAYEVENT:FALSE
SUMMARY:Ribbon Cutting: Salon Verve Inc.
DESCRIPTION:Join us as we celebrate their ten year anniversary!
X-ALT-DESC;FMTTYPE=text/html:Join us as we celebrate their ten year anniversary!
LOCATION:810 Route 82 Hopewell Junction
UID:e.2770.10481161
SEQUENCE:3
DTSTAMP:20260422T183129Z
URL:https://business.dcrcoc.org/events/details/ribbon-cutting-salon-verve-inc-10481161
END:VEVENT

END:VCALENDAR
