BEGIN:VCALENDAR
VERSION:2.0
PRODID:-//ChamberMaster//Event Calendar 2.0//EN
METHOD:PUBLISH
X-PUBLISHED-TTL:P3D
REFRESH-INTERVAL:P3D
CALSCALE:GREGORIAN
BEGIN:VEVENT
DTSTART:20180615T200000Z
DTEND:20180615T210000Z
X-MICROSOFT-CDO-ALLDAYEVENT:FALSE
SUMMARY:Ribbon Cutting - ShamPooches Doggie Day Spa\, LLC
DESCRIPTION:Join us to celebrate the Grand Opening!
X-ALT-DESC;FMTTYPE=text/html:Join us to celebrate the Grand Opening!
LOCATION:6 Lagrange Avenue Poughkeepsie
UID:e.2770.10477819
SEQUENCE:3
DTSTAMP:20260425T171124Z
URL:https://business.dcrcoc.org/events/details/ribbon-cutting-shampooches-doggie-day-spa-llc-10477819
END:VEVENT

END:VCALENDAR
