BEGIN:VCALENDAR
VERSION:2.0
PRODID:-//ChamberMaster//Event Calendar 2.0//EN
METHOD:PUBLISH
X-PUBLISHED-TTL:P3D
REFRESH-INTERVAL:P3D
CALSCALE:GREGORIAN
BEGIN:VEVENT
DTSTART:20181116T170000Z
DTEND:20181116T180000Z
X-MICROSOFT-CDO-ALLDAYEVENT:FALSE
SUMMARY:Ribbon Cutting - Sophia Home Style Cafe - POSTPONED
DESCRIPTION:Due to inclement weather\, this event has been postponed. It will be rescheduled for a later date.
X-ALT-DESC;FMTTYPE=text/html:<br />\n<span style="font-size:18px\;"><span style="color:#FF0000\;"><strong>Due to inclement weather\, this event has been postponed. It will be rescheduled for a later date.</strong></span></span>
LOCATION:
UID:e.2770.10479725
SEQUENCE:3
DTSTAMP:20260425T102031Z
URL:https://business.dcrcoc.org/events/details/ribbon-cutting-sophia-home-style-cafe-postponed-10479725
END:VEVENT

END:VCALENDAR
