BEGIN:VCALENDAR
VERSION:2.0
PRODID:-//ChamberMaster//Event Calendar 2.0//EN
METHOD:PUBLISH
X-PUBLISHED-TTL:P3D
REFRESH-INTERVAL:P3D
CALSCALE:GREGORIAN
BEGIN:VEVENT
DTSTART:20191105T170000Z
DTEND:20191105T180000Z
X-MICROSOFT-CDO-ALLDAYEVENT:FALSE
SUMMARY:Ribbon Cutting: Tasty Crab House
DESCRIPTION:Join us for a celebration of their recent opening!
X-ALT-DESC;FMTTYPE=text/html:Join us for a celebration of their recent opening!&nbsp\;
LOCATION:2600 South Road Poughkeepsie
UID:e.2770.10481418
SEQUENCE:3
DTSTAMP:20260422T171025Z
URL:https://business.dcrcoc.org/events/details/ribbon-cutting-tasty-crab-house-10481418
END:VEVENT

END:VCALENDAR
