BEGIN:VCALENDAR
VERSION:2.0
PRODID:-//ChamberMaster//Event Calendar 2.0//EN
METHOD:PUBLISH
X-PUBLISHED-TTL:P3D
REFRESH-INTERVAL:P3D
CALSCALE:GREGORIAN
BEGIN:VEVENT
DTSTART:20180821T200000Z
DTEND:20180821T210000Z
X-MICROSOFT-CDO-ALLDAYEVENT:FALSE
SUMMARY:Ribbon Cutting - The Alzheimer's Association
DESCRIPTION:Join us to celebrate the grand opening of the new location!
X-ALT-DESC;FMTTYPE=text/html:Join us to celebrate the grand opening of the new location!
LOCATION:2649 South Road\, Suite 101 Poughkeepsie
UID:e.2770.10479356
SEQUENCE:3
DTSTAMP:20260425T155226Z
URL:https://business.dcrcoc.org/events/details/ribbon-cutting-the-alzheimer-s-association-10479356
END:VEVENT

END:VCALENDAR
