BEGIN:VCALENDAR
VERSION:2.0
PRODID:-//ChamberMaster//Event Calendar 2.0//EN
METHOD:PUBLISH
X-PUBLISHED-TTL:P3D
REFRESH-INTERVAL:P3D
CALSCALE:GREGORIAN
BEGIN:VEVENT
DTSTART:20171215T170000Z
DTEND:20171215T180000Z
X-MICROSOFT-CDO-ALLDAYEVENT:FALSE
SUMMARY:Ribbon Cutting - The Art Effect
DESCRIPTION:Join us to celebrate the grand opening of The Art Effect! Previously known as Mill Street Loft & Spark Media Project. \n\n\n\nGo behind the scenes of the largest arts education organization serving youth in the Hudson Valley and celebrate our exciting new future! Join us in honoring our two founders\, Carole J. Wolf and Maria Marewski in a special ceremony immediately following the ribbon cutting. In the Carole J. Wolf Gallery\, you can catch a sneak peek at the Art Institute Senior Project Exhibition (before the official opening at 6 pm)\, enjoy a Video Art & Sculpture Exhibition created by our Habilidad Program youth\, and browse the work of Media Magic youth producers who created posters for the FDR Presidential Home & Library. A light lunch will be served.\n\n \n\nFor more information\, please contact Sarah Weikel\, Community Relations Manager\, at 845-471-7477 or sarahw@sparkmediaproject.org.
X-ALT-DESC;FMTTYPE=text/html:<span style="font-family:arial\;"><span style="font-size:14px\;">Join us to celebrate the grand opening of&nbsp\;</span><em style="color: rgb(51\, 51\, 51)\; font-family: sans-serif\, Arial\, Verdana\, &quot\;Trebuchet MS&quot\;\; font-size: 13px\;">The Art Effect</em><em style="color: rgb(51\, 51\, 51)\; font-family: sans-serif\, Arial\, Verdana\, &quot\;Trebuchet MS&quot\;\; font-size: 13px\;">!</em><em style="color: rgb(51\, 51\, 51)\; font-family: sans-serif\, Arial\, Verdana\, &quot\;Trebuchet MS&quot\;\; font-size: 13px\;"> </em></span><span style="color: rgb(51\, 51\, 51)\; font-family: arial\; font-size: 14px\; background-color: rgb(255\, 255\, 255)\;">Previously known as</span><span style="font-family:arial\;"><span style="font-size:14px\;">&nbsp\;Mill Street Loft &amp\; Spark Media Project.&nbsp\;<br />\n<br />\n<span style="font-size:12px\;"><em><span style="background:white\;"><span style="color:#333333\;">Go behind the scenes of the largest arts education organization serving youth in the Hudson Valley and celebrate our exciting new future! Join us in honoring our two founders\, Carole J. Wolf and Maria&nbsp\;</span></span><span style="color:#333333\;">Marewski</span><span style="background:white\;"><span style="color:#333333\;">&nbsp\;in a special ceremony immediately following the ribbon cutting. In the Carole J. Wolf Gallery\, you can catch a sneak peek at the Art Institute Senior Project Exhibition (before the official opening at 6 pm)\, enjoy a Video Art &amp\; Sculpture Exhibition created by our&nbsp\;</span></span><span style="color:#333333\;">Habilidad</span><span style="background:white\;"><span style="color:#333333\;">&nbsp\;Program youth\, and browse the work of Media Magic youth producers who created posters for the FDR Presidential Home &amp\; Library. A light lunch will be served.</span></span></em><br />\n&nbsp\;<br />\nFor more information\, please contact Sarah Weikel\, Community Relations Manager\, at 845-471-7477 or </span></span></span>sarahw<span style="color: rgb(51\, 51\, 51)\; font-family: arial\; font-size: 12px\; background-color: rgb(255\, 255\, 255)\;">@sparkmediaproject.org</span><span style="font-family:arial\;"><span style="font-size:14px\;"><span style="font-size:12px\;">.</span></span></span><br />\n&nbsp\;
LOCATION:45 Pershing Avenue Poughkeepsie
UID:e.2770.10476253
SEQUENCE:3
DTSTAMP:20260426T020455Z
URL:https://business.dcrcoc.org/events/details/ribbon-cutting-the-art-effect-10476253
END:VEVENT

END:VCALENDAR
