BEGIN:VCALENDAR
VERSION:2.0
PRODID:-//ChamberMaster//Event Calendar 2.0//EN
METHOD:PUBLISH
X-PUBLISHED-TTL:P3D
REFRESH-INTERVAL:P3D
CALSCALE:GREGORIAN
BEGIN:VEVENT
DTSTART:20181011T200000Z
DTEND:20181011T210000Z
X-MICROSOFT-CDO-ALLDAYEVENT:FALSE
SUMMARY:Ribbon Cutting - The Center for the Prevention of Child Abuse
DESCRIPTION:Join us to celebrate the 45th anniversary!
X-ALT-DESC;FMTTYPE=text/html:Join us to celebrate the 45th anniversary!
LOCATION:35 Van Wagner Road Poughkeepsie
UID:e.2770.10479687
SEQUENCE:3
DTSTAMP:20260425T115434Z
URL:https://business.dcrcoc.org/events/details/ribbon-cutting-the-center-for-the-prevention-of-child-abuse-10479687
END:VEVENT

END:VCALENDAR
